BEGIN:VCALENDAR
VERSION:2.0
PRODID:https://github.com/derhansen/sf_event_mgt
METHOD:PUBLISH
BEGIN:VEVENT
UID:292-314@pgzb.de
CLASS: PUBLIC
SUMMARY:Carl-Ramsauer-Preis 2002
DESCRIPTION:
LOCATION:Humboldt-Universität zu Berlin - Invalidenstraße 42, 10115 Berlin
DTSTAMP:20231105T161955Z
DTSTART:20020708T151500Z
END:VEVENT
END:VCALENDAR
