BEGIN:VCALENDAR
VERSION:2.0
PRODID:https://github.com/derhansen/sf_event_mgt
METHOD:PUBLISH
BEGIN:VEVENT
UID:291-313@pgzb.de
CLASS: PUBLIC
SUMMARY:Carl-Ramsauer-Preis 2003
DESCRIPTION:
LOCATION:Freie Universität Berlin - Fachbereich Physik - Arnimallee 14, 141
 95 Berlin
DTSTAMP:20231105T161033Z
DTSTART:20030710T151500Z
END:VEVENT
END:VCALENDAR
