BEGIN:VCALENDAR
VERSION:2.0
PRODID:https://github.com/derhansen/sf_event_mgt
METHOD:PUBLISH
BEGIN:VEVENT
UID:290-312@pgzb.de
CLASS: PUBLIC
SUMMARY:Carl-Ramsauer-Preis 2004
DESCRIPTION:
LOCATION:Technische Universität Berlin - Physik - Hardenbergstraße 36, 1062
 3 Berlin
DTSTAMP:20231105T160249Z
DTSTART:20040617T151500Z
END:VEVENT
END:VCALENDAR
