BEGIN:VCALENDAR
VERSION:2.0
PRODID:https://github.com/derhansen/sf_event_mgt
METHOD:PUBLISH
BEGIN:VEVENT
UID:289-311@pgzb.de
CLASS: PUBLIC
SUMMARY:Carl-Ramsauer-Preis 2005
DESCRIPTION:
LOCATION:Universität Postdam - Universitätskomplex Am Neuen Palais Haus 12 
 - Am Neuen Palais 10, 14469 Potsdam
DTSTAMP:20231105T144755Z
DTSTART:20051116T161500Z
END:VEVENT
END:VCALENDAR
