BEGIN:VCALENDAR
VERSION:2.0
PRODID:https://github.com/derhansen/sf_event_mgt
METHOD:PUBLISH
BEGIN:VEVENT
UID:288-310@pgzb.de
CLASS: PUBLIC
SUMMARY:Carl-Ramsauer-Preis 2006
DESCRIPTION:
LOCATION:Humboldt-Universität zu Berlin - Institut für Physik - Newtonstr. 
 15, 12489 Berlin
DTSTAMP:20231105T143523Z
DTSTART:20061115T161500Z
END:VEVENT
END:VCALENDAR
