BEGIN:VCALENDAR
VERSION:2.0
PRODID:https://github.com/derhansen/sf_event_mgt
METHOD:PUBLISH
BEGIN:VEVENT
UID:287-309@pgzb.de
CLASS: PUBLIC
SUMMARY:Carl-Ramsauer-Preis 2007
DESCRIPTION:
LOCATION:Freie Universität Berlin - Fachbereich Physik - Arnimallee 14, 141
 95 Berlin
DTSTAMP:20231105T142347Z
DTSTART:20071114T161500Z
END:VEVENT
END:VCALENDAR
