BEGIN:VCALENDAR
VERSION:2.0
PRODID:https://github.com/derhansen/sf_event_mgt
METHOD:PUBLISH
BEGIN:VEVENT
UID:285-307@pgzb.de
CLASS: PUBLIC
SUMMARY:Carl-Ramsauer-Preis 2009
DESCRIPTION:
LOCATION:Technische Universität Berlin - Eugene-Paul-Wigner-Gebäudes - Hard
 enbergstraße 36, 10623 Berlin
DTSTAMP:20231105T140312Z
DTSTART:20091118T161500Z
END:VEVENT
END:VCALENDAR
