BEGIN:VCALENDAR
VERSION:2.0
PRODID:https://github.com/derhansen/sf_event_mgt
METHOD:PUBLISH
BEGIN:VEVENT
UID:282-304@pgzb.de
CLASS: PUBLIC
SUMMARY:Carl-Ramsauer-Preis 2012
DESCRIPTION:
LOCATION:Universität Potsdam - Institut für Physik und Astronomie - Karl-Li
 ebknecht-Straße 24-25, 14476 Potsdam
DTSTAMP:20231105T133501Z
DTSTART:20121114T161500Z
END:VEVENT
END:VCALENDAR
