BEGIN:VCALENDAR
VERSION:2.0
PRODID:https://github.com/derhansen/sf_event_mgt
METHOD:PUBLISH
BEGIN:VEVENT
UID:281-303@pgzb.de
CLASS: PUBLIC
SUMMARY:Carl-Ramsauer-Preis 2013
DESCRIPTION:
LOCATION:Technische Universität Berlin - Eugene-Paul-Wigner-Gebäudes - Hard
 enbergstraße 36, 10623 Berlin
DTSTAMP:20231105T133611Z
DTSTART:20131113T161500Z
END:VEVENT
END:VCALENDAR
