BEGIN:VCALENDAR
VERSION:2.0
PRODID:https://github.com/derhansen/sf_event_mgt
METHOD:PUBLISH
BEGIN:VEVENT
UID:280-302@pgzb.de
CLASS: PUBLIC
SUMMARY:Carl-Ramsauer-Preis 2014
DESCRIPTION:
LOCATION:Humboldt-Universität zu Berlin - Institut für Physik - Newtonstr. 
 15, 12489 Berlin
DTSTAMP:20231105T133744Z
DTSTART:20141119T161500Z
END:VEVENT
END:VCALENDAR
