BEGIN:VCALENDAR
VERSION:2.0
PRODID:https://github.com/derhansen/sf_event_mgt
METHOD:PUBLISH
BEGIN:VEVENT
UID:278-300@pgzb.de
CLASS: PUBLIC
SUMMARY:Carl-Ramsauer-Preis 2016
DESCRIPTION:- gefördert durch die SPECS GmbH -
LOCATION:Universität Potsdam - Institut für Physik und Astronomie - Karl-Li
 ebknecht-Straße 24-25, 14476 Potsdam
DTSTAMP:20231105T134313Z
DTSTART:20161123T161500Z
END:VEVENT
END:VCALENDAR
