BEGIN:VCALENDAR
VERSION:2.0
PRODID:https://github.com/derhansen/sf_event_mgt
METHOD:PUBLISH
BEGIN:VEVENT
UID:277-299@pgzb.de
CLASS: PUBLIC
SUMMARY:Carl-Ramsauer-Preis 2017
DESCRIPTION:- gefördert durch die SPECS GmbH -
LOCATION:Technische Universität Berlin - Eugene-Paul-Wigner-Gebäudes - Hard
 enbergstraße 36, 10623 Berlin
DTSTAMP:20231105T134238Z
DTSTART:20171122T161500Z
END:VEVENT
END:VCALENDAR
