BEGIN:VCALENDAR
VERSION:2.0
PRODID:https://github.com/derhansen/sf_event_mgt
METHOD:PUBLISH
BEGIN:VEVENT
UID:270-297@pgzb.de
CLASS: PUBLIC
SUMMARY:Carl-Ramsauer-Preis 2019
DESCRIPTION:- gefördert durch die SPECS GmbH -
LOCATION:Freie Universität Berlin - Fachbereich Physik - Arnimallee 14, 141
 95 Berlin
DTSTAMP:20231105T134601Z
DTSTART:20191120T163000Z
END:VEVENT
END:VCALENDAR
