BEGIN:VCALENDAR
VERSION:2.0
PRODID:https://github.com/derhansen/sf_event_mgt
METHOD:PUBLISH
BEGIN:VEVENT
UID:14-145@pgzb.de
CLASS: PUBLIC
SUMMARY:Carl-Ramsauer-Preis 2020
DESCRIPTION:- gefördert durch die SPECS GmbH -
LOCATION:Online
DTSTAMP:20231105T113628Z
DTSTART:20201118T161500Z
END:VEVENT
END:VCALENDAR
