BEGIN:VCALENDAR
VERSION:2.0
PRODID:https://github.com/derhansen/sf_event_mgt
METHOD:PUBLISH
BEGIN:VEVENT
UID:81-148@pgzb.de
CLASS: PUBLIC
SUMMARY:Carl-Ramsauer-Preis 2023
DESCRIPTION:- gefördert durch die SPECS GmbH -
LOCATION:Technische Universität Berlin - Eugene-Paul-Wigner-Gebäudes - Hard
 enbergstraße 36, 10623 Berlin
DTSTAMP:20240110T181250Z
DTSTART:20231122T161500Z
END:VEVENT
END:VCALENDAR
