BEGIN:VCALENDAR
VERSION:2.0
PRODID:https://github.com/derhansen/sf_event_mgt
METHOD:PUBLISH
BEGIN:VEVENT
UID:144-240@pgzb.de
CLASS: PUBLIC
SUMMARY:Daimler AG: Mercedes-Benz Werk Berlin
DESCRIPTION:Das Mercedes-Benz Werk Berlin ist der älteste produzierende Sta
 ndort der Daimler AG, gegründet 1902. Mit über 2.500 Beschäftigten ist das 
 Werk einer der wichtigsten industriellen Arbeitgeber der Region Berlin/Bran
 denburg. Das Werk ist Hightech-Standort für die Komponentenfertigung mit Te
 chnologien zur Verminderung von CO2-Emissionen.\n\nFür die innovative Motor
 steuerung CAMTRONIC ist der Standort das Kompetenzzentrum im weltweiten Pow
 ertrain-Produktionsverbund. Das Berliner Produktprogramm umfasst darüber hi
 naus die Fertigung von Kraftstoffhochdrucksystemen, Getriebeteilen, Nockenw
 ellen und Nockenverstellern sowie die Produktion von Motoren.\n\nDie Verans
 taltung beginnt mit einer Präsentation über den Konzern und das Werk. Im An
 schluss findet eine Führung durch die Produktion von Kraftstoffhochdrucksys
 temen statt. Hier erleben Sie die Fertigungsprozesse Fügen, mechanische Fer
 tigung und automatisierte Montage.\n\nTreffpunkt: Großes Casino Bau 31, Dai
 mler AG, Mercedes-Benz Werk Berlin, Daimlerstraße 143, 12277 Berlin-Marienf
 elde\n\nAnfahrt S-Bahn bis Marienfelde, dann 10 min. Fußweg. Mit dem PKW fa
 hren Sie in die Daimlerstraße 143, 12277 Berlin (Parkplätze sind vorhanden)
 .\n\n\n\n
LOCATION:Daimler AG: Mercedes-Benz Werk Berlin - Daimlerstraße 143, 12277 B
 erlin (Marienfelde)
DTSTAMP:20231028T175727Z
DTSTART:20191016T140000Z
END:VEVENT
END:VCALENDAR
