BEGIN:VCALENDAR
VERSION:2.0
PRODID:https://github.com/derhansen/sf_event_mgt
METHOD:PUBLISH
BEGIN:VEVENT
UID:1-147@pgzb.de
CLASS: PUBLIC
SUMMARY:Carl-Ramsauer-Preis 2022
DESCRIPTION:- gefördert durch die SPECS GmbH -
LOCATION:Humboldt-Universität zu Berlin - Institut für Physik - Newtonstr. 
 15, 12489 Berlin
DTSTAMP:20231105T134946Z
DTSTART:20221123T163000Z
END:VEVENT
END:VCALENDAR
