BEGIN:VCALENDAR
VERSION:2.0
PRODID:https://github.com/derhansen/sf_event_mgt
METHOD:PUBLISH
BEGIN:VEVENT
UID:529-201@pgzb.de
CLASS: PUBLIC
SUMMARY:Flat bands in flatlands: a correlated quantum matter laboratory
DESCRIPTION:
LOCATION:Magnus-Haus - Am Kupfergraben 7, 10117 Berlin + Online
DTSTAMP:20240318T220549Z
DTSTART:20240704T163000Z
END:VEVENT
END:VCALENDAR
