BEGIN:VCALENDAR
VERSION:2.0
PRODID:https://github.com/derhansen/sf_event_mgt
METHOD:PUBLISH
BEGIN:VEVENT
UID:514-116@pgzb.de
CLASS: PUBLIC
SUMMARY:Heinrich-Gustav-Magnus-Preis 20
DESCRIPTION:gefördert durch die Wilhelm und Else Heraeus-Stiftung
LOCATION:Technische Universität Berlin - Hauptgebäude - Straße des 17. Juni
  135, 10623 Berlin
DTSTAMP:20231119T170630Z
DTSTART:20191030T171000Z
END:VEVENT
END:VCALENDAR
