BEGIN:VCALENDAR
VERSION:2.0
PRODID:https://github.com/derhansen/sf_event_mgt
METHOD:PUBLISH
BEGIN:VEVENT
UID:102-211@pgzb.de
CLASS: PUBLIC
SUMMARY:Heinrich-Gustav-Magnus-Preis 2015
DESCRIPTION:gefördert durch die Wilhelm und Else Heraeus-Stiftung\n\nDer He
 inrich-Gustav-Magnus-Preis 2015 wurde im Rahmen eines Festkolloquiums an de
 r Technischen Universität Berlin zusammen mit dem Schülerinnen- und Schüler
 preis 2015 der PGzB verliehen.\n\nDas Grusswort sprach Prof. Dr. Christian 
 Thomsen, Präsident der Technischen Universität Berlin.\n\nDen Festvortrag h
 ielt Prof. Dr. Heike Rauer, Institut für Planetenforschung, Deutsches Zentr
 um für Luft- und Raumfahrt Berlin, und Zentrum für Astronomie und Astrophys
 ik, Technische Universität Berlin. Vortragstitel: Gestern Science Fiction, 
 heute Wissenschaft! - Was wir über neue Welten wissen und wie wir sie erfor
 schen\n\nDer Preis ist mit je 2.000 Euro dotiert.\n\nIm Anschluss an die Pr
 eisverleihung fand ein Stehempfang im Lichthof des Hauptgebäudes der Techni
 schen Universität Berlin, Straße des 17. Juni 135, 10623 Berlin, statt.
LOCATION:Technische Universität Berlin - Hauptgebäude - Straße des 17. Juni
  135, 10623 Berlin
DTSTAMP:20231003T130752Z
DTSTART:20151111T170000Z
END:VEVENT
END:VCALENDAR
