BEGIN:VCALENDAR
VERSION:2.0
PRODID:https://github.com/derhansen/sf_event_mgt
METHOD:PUBLISH
BEGIN:VEVENT
UID:100-209@pgzb.de
CLASS: PUBLIC
SUMMARY:Heinrich-Gustav-Magnus-Preis 2016
DESCRIPTION:gefördert durch die Wilhelm und Else Heraeus-Stiftung\n\nDer He
 inrich-Gustav-Magnus-Preis 2016 wurde im Rahmen eines Festkolloquiums an de
 r Technischen Universität Berlin zusammen mit dem Schülerinnen- und Schüler
 preis 2016 der PGzB verliehen.\n\nDas Grusswort sprach Prof. Dr. Angela Itt
 el, Vizepräsidentin für Internationales und Lehrkräftebildung der Technisch
 en Universität Berlin.\n\nDen Festvortrag hielt Prof. Dr. Matthias Steinmet
 z, Leibniz-Institut für Astrophysik Potsdam (AIP). Vortragstitel: Milchstra
 ßenarchäologie mit Gaia\n\nDer Preis ist mit je 2.000 Euro dotiert.\n\nIm A
 nschluss an die Preisverleihung fand ein Stehempfang im Lichthof des Hauptg
 ebäudes der Technischen Universität Berlin, Straße des 17. Juni 135, 10623 
 Berlin, statt.
LOCATION:Technische Universität Berlin - Hauptgebäude - Straße des 17. Juni
  135, 10623 Berlin
DTSTAMP:20231003T122211Z
DTSTART:20161109T170000Z
END:VEVENT
END:VCALENDAR
