BEGIN:VCALENDAR
VERSION:2.0
PRODID:https://github.com/derhansen/sf_event_mgt
METHOD:PUBLISH
BEGIN:VEVENT
UID:29-138@pgzb.de
CLASS: PUBLIC
SUMMARY:Heinrich-Gustav-Magnus-Preis 2020
DESCRIPTION:gefördert durch die Wilhelm und Else Heraeus-Stiftung
LOCATION:Online
DTSTAMP:20230625T160550Z
DTSTART:20201209T170000Z
END:VEVENT
END:VCALENDAR
