BEGIN:VCALENDAR
VERSION:2.0
PRODID:https://github.com/derhansen/sf_event_mgt
METHOD:PUBLISH
BEGIN:VEVENT
UID:260-287@pgzb.de
CLASS: PUBLIC
SUMMARY:Karl-Scheel-Sitzung und Preis 2008
DESCRIPTION:
LOCATION:Physikalisch-Technische Bundesanstalt - Hörsaal im Hermann-von-Hel
 mholtz-Bau
DTSTAMP:20231029T184257Z
DTSTART:20080620T151500Z
END:VEVENT
END:VCALENDAR
