BEGIN:VCALENDAR
VERSION:2.0
PRODID:https://github.com/derhansen/sf_event_mgt
METHOD:PUBLISH
BEGIN:VEVENT
UID:549-367@pgzb.de
CLASS: PUBLIC
SUMMARY:Karl-Scheel-Sitzung und -Preis 2025
DESCRIPTION:
LOCATION:Physikalisch-Technische Bundesanstalt - Hörsaal im Hermann-von-Hel
 mholtz-Bau
DTSTAMP:20250623T110712Z
DTSTART:20250620T151500Z
END:VEVENT
END:VCALENDAR
