BEGIN:VCALENDAR
VERSION:2.0
PRODID:https://github.com/derhansen/sf_event_mgt
METHOD:PUBLISH
BEGIN:VEVENT
UID:99-208@pgzb.de
CLASS: PUBLIC
SUMMARY:Schülerinnen- und Schülerpreis 2016
DESCRIPTION:Der Schülerinnen- und Schülerpreis 2016 wurde im Rahmen eines F
 estkolloquiums an der Technischen Universität Berlin zusammen mit dem Heinr
 ich-Gustav-Magnus-Preis 2016 für herausragende Physik-Lehrerinnen und -Lehr
 er verliehen.\n\nDen Festvortrag hielt Prof. Dr. Matthias Steinmetz, Leibni
 z-Institut für Astrophysik Potsdam (AIP). Vortragstitel: Milchstraßenarchäo
 logie mit Gaia\n\nIm Anschluss an die Preisverleihung fand ein Stehempfang 
 im Lichthof des Hauptgebäudes der Technischen Universität Berlin, Straße de
 s 17. Juni 135, 10623 Berlin, statt.
LOCATION:Technische Universität Berlin - Hauptgebäude - Straße des 17. Juni
  135, 10623 Berlin
DTSTAMP:20231003T121739Z
DTSTART:20161109T170000Z
END:VEVENT
END:VCALENDAR
