BEGIN:VCALENDAR
VERSION:2.0
PRODID:https://github.com/derhansen/sf_event_mgt
METHOD:PUBLISH
BEGIN:VEVENT
UID:17-134@pgzb.de
CLASS: PUBLIC
SUMMARY:Schülerinnen- und Schülerpreis 2020
DESCRIPTION:Der Schülerinnen- und Schülerpreis 2020 wurde auf Grund der Cov
 id-19-Pandemie in diesem Jahr auf dem Postweg über die Schulen bzw. direkt 
 an die Schülerinnen und Schüler verliehen. Der Preis besteht aus einer Urku
 nde, einem Buch und einer kostenlosen einjährigen Mitgliedschaft in der Deu
 tschen Physikalischen Gesellschaft.
DTSTAMP:20230625T160339Z
DTSTART:20201031T230000Z
END:VEVENT
END:VCALENDAR
